BEGIN:VCALENDAR
VERSION:2.0
CALSCALE:GREGORIAN
PRODID:-//Diputació de Barcelona//DibaCMS//EN
BEGIN:VEVENT
UID:4109
DTSTAMP:20260422T134013
DTSTART:20190308T193000
DTEND:20190308T203000
SUMMARY:Presentació del llibre "50 poetes de la terra"
LOCATION:
METHOD:PUBLISH
X-WR-CALNAME:capellades@capellades.cat
X-WR-TIMEZONE:Europe/Madrid
DESCRIPTION:Presentació a Capellades del Poemari solidari "50 poetes de la terra".

URI:https://www.capellades.cat/actualitat/agenda/presentacio-del-llibre-50-poetes-de-la-terra.html
CLASS:PUBLIC
END:VEVENT
END:VCALENDAR
