BEGIN:VCALENDAR
VERSION:2.0
CALSCALE:GREGORIAN
PRODID:-//Diputació de Barcelona//DibaCMS//EN
BEGIN:VEVENT
UID:4108
DTSTAMP:20260422T013138
DTSTART:20190308T180000
DTEND:20190308T190000
SUMMARY:Hora del conte: La Caputxeta forçuda
LOCATION:
METHOD:PUBLISH
X-WR-CALNAME:capellades@capellades.cat
X-WR-TIMEZONE:Europe/Madrid
DESCRIPTION:Nova Hora del Conte a la Biblioteca El Safareig.

URI:https://www.capellades.cat/actualitat/agenda/hora-del-conte-la-caputxeta-forcuda.html
CLASS:PUBLIC
END:VEVENT
END:VCALENDAR
