BEGIN:VCALENDAR
VERSION:2.0
CALSCALE:GREGORIAN
PRODID:-//Diputació de Barcelona//DibaCMS//EN
BEGIN:VEVENT
UID:4107
DTSTAMP:20260422T075151
DTSTART:20190308T000000
DTEND:20190308T235500
SUMMARY:Vaga feminista
LOCATION:
METHOD:PUBLISH
X-WR-CALNAME:capellades@capellades.cat
X-WR-TIMEZONE:Europe/Madrid
DESCRIPTION:Jornada de vaga feminista, convocada arreu.

URI:https://www.capellades.cat/actualitat/agenda/vaga-feminista.html
CLASS:PUBLIC
END:VEVENT
END:VCALENDAR
