BEGIN:VCALENDAR
VERSION:2.0
CALSCALE:GREGORIAN
PRODID:-//Diputació de Barcelona//DibaCMS//EN
BEGIN:VEVENT
UID:4106
DTSTAMP:20260422T064824
DTSTART:20190307T173000
DTEND:20190307T183000
SUMMARY:Taller sobre primers auxilis
LOCATION:
METHOD:PUBLISH
X-WR-CALNAME:capellades@capellades.cat
X-WR-TIMEZONE:Europe/Madrid
DESCRIPTION:L'ampa de la llar d'infants organitza un taller de primers auxilis, a càrrec de l'Alba Vergés.

URI:https://www.capellades.cat/actualitat/agenda/taller-sobre-primers-auxilis.html
CLASS:PUBLIC
END:VEVENT
END:VCALENDAR
