BEGIN:VCALENDAR
VERSION:2.0
CALSCALE:GREGORIAN
PRODID:-//Diputació de Barcelona//DibaCMS//EN
BEGIN:VEVENT
UID:4103
DTSTAMP:20260422T035554
DTSTART:20190305T150000
DTEND:20190305T163000
SUMMARY:Carnaval a l'escola Marquès de la Pobla
LOCATION:
METHOD:PUBLISH
X-WR-CALNAME:capellades@capellades.cat
X-WR-TIMEZONE:Europe/Madrid
DESCRIPTION:L'escola Marquès de la Pobla celebra la festa del Carnestoltes.

URI:https://www.capellades.cat/actualitat/agenda/carnaval-a-lescola-marques-de-la-pobla.html
CLASS:PUBLIC
END:VEVENT
END:VCALENDAR
