BEGIN:VCALENDAR
VERSION:2.0
CALSCALE:GREGORIAN
PRODID:-//Diputació de Barcelona//DibaCMS//EN
BEGIN:VEVENT
UID:4102
DTSTAMP:20260421T234453
DTSTART:20190305T100000
DTEND:20190305T120000
SUMMARY:Visita temàtica  "Harry Potter" a la Biblioteca
LOCATION:
METHOD:PUBLISH
X-WR-CALNAME:capellades@capellades.cat
X-WR-TIMEZONE:Europe/Madrid
DESCRIPTION:A l'escola Mare del Diví Pastor estan treballant el llibre "Harry Potter" de J.K. Rolwlling.

URI:https://www.capellades.cat/actualitat/agenda/visita-tematica-harry-potter-a-la-biblioteca.html
CLASS:PUBLIC
END:VEVENT
END:VCALENDAR
