BEGIN:VCALENDAR
VERSION:2.0
CALSCALE:GREGORIAN
PRODID:-//Diputació de Barcelona//DibaCMS//EN
BEGIN:VEVENT
UID:4101
DTSTAMP:20260422T041850
DTSTART:20190302T130000
DTEND:20190302T170000
SUMMARY:Calçotada del Club de Futbol Sala
LOCATION:
METHOD:PUBLISH
X-WR-CALNAME:capellades@capellades.cat
X-WR-TIMEZONE:Europe/Madrid
DESCRIPTION:El Club de Futbol Sala Capellades organitza una calçotada per aquest dissabte.

URI:https://www.capellades.cat/actualitat/agenda/calcotada-del-club-de-futbol-sala.html
CLASS:PUBLIC
END:VEVENT
END:VCALENDAR
