BEGIN:VCALENDAR
VERSION:2.0
CALSCALE:GREGORIAN
PRODID:-//Diputació de Barcelona//DibaCMS//EN
BEGIN:VEVENT
UID:4099
DTSTAMP:20260422T091320
DTSTART:20190202T130000
DTEND:20190202T170000
SUMMARY:Calçotada del Club de Futbol Sala Capellades
LOCATION:
METHOD:PUBLISH
X-WR-CALNAME:capellades@capellades.cat
X-WR-TIMEZONE:Europe/Madrid
DESCRIPTION:El Club de Futbol Sala Capellades farà una calçotada aquest dissabte a partir de la una del migdia.

URI:https://www.capellades.cat/actualitat/agenda/calcotada-del-club-de-futbol-sala-capellades.html
CLASS:PUBLIC
END:VEVENT
END:VCALENDAR
