BEGIN:VCALENDAR
VERSION:2.0
CALSCALE:GREGORIAN
PRODID:-//Diputació de Barcelona//DibaCMS//EN
BEGIN:VEVENT
UID:4098
DTSTAMP:20260422T141147
DTSTART:20190301T190000
DTEND:20190301T203000
SUMMARY:Cinema amb "Perfectos desconocidos"
LOCATION:
METHOD:PUBLISH
X-WR-CALNAME:capellades@capellades.cat
X-WR-TIMEZONE:Europe/Madrid
DESCRIPTION:En un sopar entre quatre parelles, que es coneixen de toda la vida, es proposa un joc que posarà sobre la taula els seus pitjors secrets: llegir en veu alta els missatges, i atendre públicament les trucades que rebin en els seus mòbils durant el sopar.

URI:https://www.capellades.cat/actualitat/agenda/cinema-amb-perfectos-desconocidos.html
CLASS:PUBLIC
END:VEVENT
END:VCALENDAR
