BEGIN:VCALENDAR
VERSION:2.0
CALSCALE:GREGORIAN
PRODID:-//Diputació de Barcelona//DibaCMS//EN
BEGIN:VEVENT
UID:4092
DTSTAMP:20260422T051731
DTSTART:20190228T200000
DTEND:20190228T210000
SUMMARY:Sessió informativa Junts per Capellades
LOCATION:C/ Pilar, 2 08786 Capellades
METHOD:PUBLISH
X-WR-CALNAME:capellades@capellades.cat
X-WR-TIMEZONE:Europe/Madrid
DESCRIPTION:Com t'afecta la el desdoblament de la carretera C15?

URI:https://www.capellades.cat/actualitat/agenda/sessio-informativa-junts-per-capellades.html
CLASS:PUBLIC
END:VEVENT
END:VCALENDAR
