BEGIN:VCALENDAR
VERSION:2.0
CALSCALE:GREGORIAN
PRODID:-//Diputació de Barcelona//DibaCMS//EN
BEGIN:VEVENT
UID:409
DTSTAMP:20260419T151512
DTSTART:20151210T190000
DTEND:20151210T000000
SUMMARY:Taula de Dones de Capellades
LOCATION:
METHOD:PUBLISH
X-WR-CALNAME:capellades@capellades.cat
X-WR-TIMEZONE:Europe/Madrid
DESCRIPTION:TERCERA EDICIÓ DE LA TAULA DE DONES DE CAPELLADES



URI:https://www.capellades.cat/actualitat/agenda/taula-de-dones-de-capellades.html
CLASS:PUBLIC
END:VEVENT
END:VCALENDAR
