BEGIN:VCALENDAR
VERSION:2.0
CALSCALE:GREGORIAN
PRODID:-//Diputació de Barcelona//DibaCMS//EN
BEGIN:VEVENT
UID:4084
DTSTAMP:20260422T052045
DTSTART:20190227T180000
DTEND:20190227T193000
SUMMARY:Orienta't en família
LOCATION:
METHOD:PUBLISH
X-WR-CALNAME:capellades@capellades.cat
X-WR-TIMEZONE:Europe/Madrid
DESCRIPTION:L'Institut Molí de la Vila de Capellades organitza una xerrada per orientar sobre els aspectes que cal tenir en compte per escollir itinerari després de l'ESO.

URI:https://www.capellades.cat/actualitat/agenda/orientat-en-familia.html
CLASS:PUBLIC
END:VEVENT
END:VCALENDAR
