BEGIN:VCALENDAR
VERSION:2.0
CALSCALE:GREGORIAN
PRODID:-//Diputació de Barcelona//DibaCMS//EN
BEGIN:VEVENT
UID:4083
DTSTAMP:20260421T235424
DTSTART:20190216T110000
DTEND:20190216T120000
SUMMARY:El club de Futbol Sala només juga 1 partit
LOCATION:
METHOD:PUBLISH
X-WR-CALNAME:capellades@capellades.cat
X-WR-TIMEZONE:Europe/Madrid
DESCRIPTION:Aquest cap de setmana només es jugarà un partit a casa del Club de Futbol Sala Capellades.

URI:https://www.capellades.cat/actualitat/agenda/el-club-de-futbol-sala-nomes-juga-1-partit.html
CLASS:PUBLIC
END:VEVENT
END:VCALENDAR
