BEGIN:VCALENDAR
VERSION:2.0
CALSCALE:GREGORIAN
PRODID:-//Diputació de Barcelona//DibaCMS//EN
BEGIN:VEVENT
UID:4082
DTSTAMP:20260422T141927
DTSTART:20190303T170000
DTEND:20190303T180000
SUMMARY:Festa del Carnestoltes
LOCATION:
METHOD:PUBLISH
X-WR-CALNAME:capellades@capellades.cat
X-WR-TIMEZONE:Europe/Madrid
DESCRIPTION:Capellades celebrarà el Carnetoltes infantil el diumenge 3 de març.

URI:https://www.capellades.cat/actualitat/agenda/festa-del-carnestoltes.html
CLASS:PUBLIC
END:VEVENT
END:VCALENDAR
