BEGIN:VCALENDAR
VERSION:2.0
CALSCALE:GREGORIAN
PRODID:-//Diputació de Barcelona//DibaCMS//EN
BEGIN:VEVENT
UID:4077
DTSTAMP:20260422T144439
DTSTART:20190217T190000
DTEND:20190217T210000
SUMMARY:Concert del Cosmos Quartet a Igualada
LOCATION:
METHOD:PUBLISH
X-WR-CALNAME:capellades@capellades.cat
X-WR-TIMEZONE:Europe/Madrid
DESCRIPTION:Aquest diumenge podràs veure en directe el Cosmos Quartet al Teatre de l'Aurora d'Igualada.

URI:https://www.capellades.cat/actualitat/agenda/concert-del-cosmos-quartet-a-igualada.html
CLASS:PUBLIC
END:VEVENT
END:VCALENDAR
