BEGIN:VCALENDAR
VERSION:2.0
CALSCALE:GREGORIAN
PRODID:-//Diputació de Barcelona//DibaCMS//EN
BEGIN:VEVENT
UID:4074
DTSTAMP:20260422T093136
DTSTART:20190209T153000
DTEND:20190210T110000
SUMMARY:Vine a animar el Club de Futbol Sala
LOCATION:
METHOD:PUBLISH
X-WR-CALNAME:capellades@capellades.cat
X-WR-TIMEZONE:Europe/Madrid
DESCRIPTION:Vine a animar els equips del Club de Futbol Sala Capellades.

URI:https://www.capellades.cat/actualitat/agenda/vine-a-animar-el-club-de-futbol-sala.html
CLASS:PUBLIC
END:VEVENT
END:VCALENDAR
