BEGIN:VCALENDAR
VERSION:2.0
CALSCALE:GREGORIAN
PRODID:-//Diputació de Barcelona//DibaCMS//EN
BEGIN:VEVENT
UID:4061
DTSTAMP:20260422T074724
DTSTART:20190228T000000
DTEND:20190228T000000
SUMMARY:Dijous Llarder, a La Lliga
LOCATION:
METHOD:PUBLISH
X-WR-CALNAME:capellades@capellades.cat
X-WR-TIMEZONE:Europe/Madrid
DESCRIPTION:La Cafeteria de La Lliga t'ajuda a celebrar el Dijous Llarder amb un menú especial.

URI:https://www.capellades.cat/actualitat/agenda/dijous-llarder-a-la-lliga.html
CLASS:PUBLIC
END:VEVENT
END:VCALENDAR
