BEGIN:VCALENDAR
VERSION:2.0
CALSCALE:GREGORIAN
PRODID:-//Diputació de Barcelona//DibaCMS//EN
BEGIN:VEVENT
UID:4059
DTSTAMP:20260422T124444
DTSTART:20190221T210000
DTEND:20190221T230000
SUMMARY:Tast de vins
LOCATION:
METHOD:PUBLISH
X-WR-CALNAME:capellades@capellades.cat
X-WR-TIMEZONE:Europe/Madrid
DESCRIPTION:La Societat La Lliga i la Bodga Torres organitzen un nou tast de vins.

URI:https://www.capellades.cat/actualitat/agenda/tast-de-vins.html
CLASS:PUBLIC
END:VEVENT
END:VCALENDAR
