BEGIN:VCALENDAR
VERSION:2.0
CALSCALE:GREGORIAN
PRODID:-//Diputació de Barcelona//DibaCMS//EN
BEGIN:VEVENT
UID:4058
DTSTAMP:20260422T151224
DTSTART:20190217T163000
DTEND:20190217T210000
SUMMARY:La Lliga et porta a veure La Traviatta
LOCATION:
METHOD:PUBLISH
X-WR-CALNAME:capellades@capellades.cat
X-WR-TIMEZONE:Europe/Madrid
DESCRIPTION:La Societat La Lliga et porta a Barcelona a veure òpera, concretament "La Traviatta".

URI:https://www.capellades.cat/actualitat/agenda/la-lliga-et-porta-a-veure-la-traviatta.html
CLASS:PUBLIC
END:VEVENT
END:VCALENDAR
