BEGIN:VCALENDAR
VERSION:2.0
CALSCALE:GREGORIAN
PRODID:-//Diputació de Barcelona//DibaCMS//EN
BEGIN:VEVENT
UID:4057
DTSTAMP:20260422T092831
DTSTART:20190214T193000
DTEND:20190214T203000
SUMMARY:Xerrada amb l'Armand Ballart
LOCATION:C/ Pilar, 13 08786 Capellades
METHOD:PUBLISH
X-WR-CALNAME:capellades@capellades.cat
X-WR-TIMEZONE:Europe/Madrid
DESCRIPTION:El Saló Rosa de La Lliga acollirà una xerrada amb l'alpinista català Armand Ballart.

URI:https://www.capellades.cat/actualitat/agenda/xerrada-amb-larmand-ballart.html
CLASS:PUBLIC
END:VEVENT
END:VCALENDAR
