BEGIN:VCALENDAR
VERSION:2.0
CALSCALE:GREGORIAN
PRODID:-//Diputació de Barcelona//DibaCMS//EN
BEGIN:VEVENT
UID:4055
DTSTAMP:20260422T124403
DTSTART:20190208T193000
DTEND:20190208T203000
SUMMARY:Nova trobada poètica
LOCATION:C/ Pilar, 13 08786 Capellades
METHOD:PUBLISH
X-WR-CALNAME:capellades@capellades.cat
X-WR-TIMEZONE:Europe/Madrid
DESCRIPTION:La Societat La Lliga organitza una nova trobada poètica aquest mes de febrer.

URI:https://www.capellades.cat/actualitat/agenda/nova-trobada-poetica.html
CLASS:PUBLIC
END:VEVENT
END:VCALENDAR
