BEGIN:VCALENDAR
VERSION:2.0
CALSCALE:GREGORIAN
PRODID:-//Diputació de Barcelona//DibaCMS//EN
BEGIN:VEVENT
UID:4054
DTSTAMP:20260422T095500
DTSTART:20190207T210000
DTEND:20190207T230000
SUMMARY:Sopem lligats amb Josep Maria Romaguera i Bach
LOCATION:
METHOD:PUBLISH
X-WR-CALNAME:capellades@capellades.cat
X-WR-TIMEZONE:Europe/Madrid
DESCRIPTION:El proper Sopem lligats tindrà com a protagonista en Josep Maria Romaguera i Bach. Aquest és un sopar tertúlia que es farà el dijous 7, a les 9 de la nit al Saló Rosa. El preu és de 15€ pels socis i 18€ per als qui no ho són. Inscripcions i pagament a la cafeteria fins al 31 de gener.

URI:https://www.capellades.cat/actualitat/agenda/sopem-lligats-amb-josep-maria-romaguera-i-bach.html
CLASS:PUBLIC
END:VEVENT
END:VCALENDAR
