BEGIN:VCALENDAR
VERSION:2.0
CALSCALE:GREGORIAN
PRODID:-//Diputació de Barcelona//DibaCMS//EN
BEGIN:VEVENT
UID:4053
DTSTAMP:20260422T114812
DTSTART:20190201T190000
DTEND:20190201T200000
SUMMARY:"Lady Bird", avui a La Lliga
LOCATION:C/ Pilar, 13 08786 Capellades
METHOD:PUBLISH
X-WR-CALNAME:capellades@capellades.cat
X-WR-TIMEZONE:Europe/Madrid
DESCRIPTION:Avui, a les 7 de la tarda, projecció de la pel·lícula "Lady Bird", al Teatre La Lliga.

URI:https://www.capellades.cat/actualitat/agenda/lady-bird-avui-a-la-lliga.html
CLASS:PUBLIC
END:VEVENT
END:VCALENDAR
