BEGIN:VCALENDAR
VERSION:2.0
CALSCALE:GREGORIAN
PRODID:-//Diputació de Barcelona//DibaCMS//EN
BEGIN:VEVENT
UID:4052
DTSTAMP:20260422T010050
DTSTART:20190222T200000
DTEND:20190222T210000
SUMMARY:Xerrada d'AEMdeKP
LOCATION:
METHOD:PUBLISH
X-WR-CALNAME:capellades@capellades.cat
X-WR-TIMEZONE:Europe/Madrid
DESCRIPTION:El divendres 22 de febrer, a les 8 de la nit es podrà veure al Teatre de La Lliga un documental/xerrada protagonitzat per Sergi Mingote.

URI:https://www.capellades.cat/actualitat/agenda/xerrada-daemdekp.html
CLASS:PUBLIC
END:VEVENT
END:VCALENDAR
