BEGIN:VCALENDAR
VERSION:2.0
CALSCALE:GREGORIAN
PRODID:-//Diputació de Barcelona//DibaCMS//EN
BEGIN:VEVENT
UID:4051
DTSTAMP:20260422T063755
DTSTART:20190226T210000
DTEND:20190226T223000
SUMMARY:L'Escola de Música organitza l'Audiciona't 39
LOCATION:C/ Divina Pastora, 10 08786 Capellades
METHOD:PUBLISH
X-WR-CALNAME:capellades@capellades.cat
X-WR-TIMEZONE:Europe/Madrid
DESCRIPTION:L'Escola de Música de Capellades ha organitzat per al dimarts 26 de febrer un nou Audiciona't, el número 39.

URI:https://www.capellades.cat/actualitat/agenda/lescola-de-musica-organitza-laudicionat-39.html
CLASS:PUBLIC
END:VEVENT
END:VCALENDAR
