BEGIN:VCALENDAR
VERSION:2.0
CALSCALE:GREGORIAN
PRODID:-//Diputació de Barcelona//DibaCMS//EN
BEGIN:VEVENT
UID:4050
DTSTAMP:20260422T052419
DTSTART:20190217T090000
DTEND:20190217T140000
SUMMARY:Nova sortida del Caminant per la comarca
LOCATION:
METHOD:PUBLISH
X-WR-CALNAME:capellades@capellades.cat
X-WR-TIMEZONE:Europe/Madrid
DESCRIPTION:Aquest mes de febrer es farà una nova sortida dels Caminant per la Comarca, d'AEMdeKP.

URI:https://www.capellades.cat/actualitat/agenda/nova-sortida-del-caminant-per-la-comarca.html
CLASS:PUBLIC
END:VEVENT
END:VCALENDAR
