BEGIN:VCALENDAR
VERSION:2.0
CALSCALE:GREGORIAN
PRODID:-//Diputació de Barcelona//DibaCMS//EN
BEGIN:VEVENT
UID:4049
DTSTAMP:20260422T095214
DTSTART:20190213T103000
DTEND:20190213T130000
SUMMARY:Nova visita de l'Oficina Mòbil d'Informació al Consumidor
LOCATION:
METHOD:PUBLISH
X-WR-CALNAME:capellades@capellades.cat
X-WR-TIMEZONE:Europe/Madrid
DESCRIPTION:L'Oficina Mòbil d'Informació al Consumidor farà parada a Capellades l dimecres 13 de febrer a la Plaça Verdaguer.

URI:https://www.capellades.cat/actualitat/agenda/4049-nova-visita-de-loficina-mobil-dinformacio-al-consumidor.html
CLASS:PUBLIC
END:VEVENT
END:VCALENDAR
