BEGIN:VCALENDAR
VERSION:2.0
CALSCALE:GREGORIAN
PRODID:-//Diputació de Barcelona//DibaCMS//EN
BEGIN:VEVENT
UID:4046
DTSTAMP:20260422T012651
DTSTART:20190218T173000
DTEND:20190225T183000
SUMMARY:Taller de música per a nadons
LOCATION:C/ Sarrià de Ter, 34-38 08786 Capellades
METHOD:PUBLISH
X-WR-CALNAME:capellades@capellades.cat
X-WR-TIMEZONE:Europe/Madrid
DESCRIPTION:L'AMPA de la Llar d'Infants Vailets organitza un taller de música per a nadons, de 4 a 18 mesos.

URI:https://www.capellades.cat/actualitat/agenda/taller-de-musica-per-a-nadons.html
CLASS:PUBLIC
END:VEVENT
END:VCALENDAR
