BEGIN:VCALENDAR
VERSION:2.0
CALSCALE:GREGORIAN
PRODID:-//Diputació de Barcelona//DibaCMS//EN
BEGIN:VEVENT
UID:4045
DTSTAMP:20260422T025854
DTSTART:20190223T190000
DTEND:20190223T210000
SUMMARY:Recital de piano a Paper de Música
LOCATION:C/ del Fossar, 4 08786 Capellades
METHOD:PUBLISH
X-WR-CALNAME:capellades@capellades.cat
X-WR-TIMEZONE:Europe/Madrid
DESCRIPTION:Aquest mes de febrer Paper de Música proposa un recital de piano amb Carles Marigó.

URI:https://www.capellades.cat/actualitat/agenda/recital-de-piano-a-paper-de-musica.html
CLASS:PUBLIC
END:VEVENT
END:VCALENDAR
