BEGIN:VCALENDAR
VERSION:2.0
CALSCALE:GREGORIAN
PRODID:-//Diputació de Barcelona//DibaCMS//EN
BEGIN:VEVENT
UID:4044
DTSTAMP:20260422T052628
DTSTART:20190215T200000
DTEND:20190215T220000
SUMMARY:Cinefòrum Josep Romanyà Montcada
LOCATION:
METHOD:PUBLISH
X-WR-CALNAME:capellades@capellades.cat
X-WR-TIMEZONE:Europe/Madrid
DESCRIPTION:Aquest mes de febrer la trobada del Cinefòrum Josep Romanyà Montcada serà per comentar el film "Tully", amb presetnació i col·loqui a càrrec d'Enric Falo.

URI:https://www.capellades.cat/actualitat/agenda/4044-cineforum-josep-romanya-montcada.html
CLASS:PUBLIC
END:VEVENT
END:VCALENDAR
