BEGIN:VCALENDAR
VERSION:2.0
CALSCALE:GREGORIAN
PRODID:-//Diputació de Barcelona//DibaCMS//EN
BEGIN:VEVENT
UID:4043
DTSTAMP:20260422T024246
DTSTART:20190224T150000
DTEND:20190224T190000
SUMMARY:2on Torneig Vila de Capellades de Gimnàstica Rítmica 
LOCATION:
METHOD:PUBLISH
X-WR-CALNAME:capellades@capellades.cat
X-WR-TIMEZONE:Europe/Madrid
DESCRIPTION:El Club Ritmica Capellades ha organitzat un darrer diumenge de febrer ple d'activitats.

URI:https://www.capellades.cat/actualitat/agenda/2on-torneig-vila-de-capellades-de-gimnastica-ritmica-.html
CLASS:PUBLIC
END:VEVENT
END:VCALENDAR
