BEGIN:VCALENDAR
VERSION:2.0
CALSCALE:GREGORIAN
PRODID:-//Diputació de Barcelona//DibaCMS//EN
BEGIN:VEVENT
UID:4042
DTSTAMP:20260422T110106
DTSTART:20190224T100000
DTEND:20190224T130000
SUMMARY:1er Open de Gimnàstica Estètica de Grup de 2019 
LOCATION:Avda. Maties Guasch 08786 Capellades
METHOD:PUBLISH
X-WR-CALNAME:capellades@capellades.cat
X-WR-TIMEZONE:Europe/Madrid
DESCRIPTION:El Club Rímica Capellades organitza el 1er Open de Gimnàstica Estètica de Grup de 2019.

URI:https://www.capellades.cat/actualitat/agenda/1er-open-de-gimnastica-estetica-de-grup-de-2019-.html
CLASS:PUBLIC
END:VEVENT
END:VCALENDAR
