BEGIN:VCALENDAR
VERSION:2.0
CALSCALE:GREGORIAN
PRODID:-//Diputació de Barcelona//DibaCMS//EN
BEGIN:VEVENT
UID:4038
DTSTAMP:20260422T095413
DTSTART:20190206T111500
DTEND:20190206T130000
SUMMARY:6 de febrer: Santa Dorotea i Teatre familiar
LOCATION:
METHOD:PUBLISH
X-WR-CALNAME:capellades@capellades.cat
X-WR-TIMEZONE:Europe/Madrid
DESCRIPTION: I el dia 6 de febrer, Santa Dorotea.

URI:https://www.capellades.cat/actualitat/agenda/6-de-febrer-santa-dorotea-i-teatre-familiar.html
CLASS:PUBLIC
END:VEVENT
END:VCALENDAR
