BEGIN:VCALENDAR
VERSION:2.0
CALSCALE:GREGORIAN
PRODID:-//Diputació de Barcelona//DibaCMS//EN
BEGIN:VEVENT
UID:4036
DTSTAMP:20260422T091235
DTSTART:20190203T180000
DTEND:20190203T190000
SUMMARY:La JOSA toca per la Festa Major d'Hivern
LOCATION:C/ Pilar, 13 08786 Capellades
METHOD:PUBLISH
X-WR-CALNAME:capellades@capellades.cat
X-WR-TIMEZONE:Europe/Madrid
DESCRIPTION:A les 6 de la tarda “3 i acció!” Concert de bandes sonores de pel·lícules amb la JOSA, la Jove Orquestra Simfònica de l’Anoia, dirigida per Josep Miquel Mindán.

URI:https://www.capellades.cat/actualitat/agenda/la-josa-toca-per-la-festa-major-dhivern.html
CLASS:PUBLIC
END:VEVENT
END:VCALENDAR
