BEGIN:VCALENDAR
VERSION:2.0
CALSCALE:GREGORIAN
PRODID:-//Diputació de Barcelona//DibaCMS//EN
BEGIN:VEVENT
UID:4034
DTSTAMP:20260422T114336
DTSTART:20190201T203000
DTEND:20190201T220000
SUMMARY:Teatre per la Festa Major d'Hivern
LOCATION:C/ Pilar, 13 08786 Capellades
METHOD:PUBLISH
X-WR-CALNAME:capellades@capellades.cat
X-WR-TIMEZONE:Europe/Madrid
DESCRIPTION:“A mí no me escribió Tennessee Williams (porque no me conocía)”, és l'obra que es posarà en escena, sota la direcció de Marc Rosich i protagonitzada per Roberto G. Alonso.

URI:https://www.capellades.cat/actualitat/agenda/teatre-per-la-festa-major-dhivern.html
CLASS:PUBLIC
END:VEVENT
END:VCALENDAR
