BEGIN:VCALENDAR
VERSION:2.0
CALSCALE:GREGORIAN
PRODID:-//Diputació de Barcelona//DibaCMS//EN
BEGIN:VEVENT
UID:4022
DTSTAMP:20260422T114921
DTSTART:20190131T193000
DTEND:20190131T210000
SUMMARY:Penjada de llaços 
LOCATION:
METHOD:PUBLISH
X-WR-CALNAME:capellades@capellades.cat
X-WR-TIMEZONE:Europe/Madrid
DESCRIPTION:Nova convocatòria de la Taula de Dones.

URI:https://www.capellades.cat/actualitat/agenda/penjada-de-llacos-.html
CLASS:PUBLIC
END:VEVENT
END:VCALENDAR
