BEGIN:VCALENDAR
VERSION:2.0
CALSCALE:GREGORIAN
PRODID:-//Diputació de Barcelona//DibaCMS//EN
BEGIN:VEVENT
UID:4016
DTSTAMP:20260422T093119
DTSTART:20190112T163000
DTEND:20190113T110000
SUMMARY:Anima al Club de Futbol Sala
LOCATION:
METHOD:PUBLISH
X-WR-CALNAME:capellades@capellades.cat
X-WR-TIMEZONE:Europe/Madrid
DESCRIPTION:Aquesta setmana són 3 els equips del Club de Futbol Sala Capellades que juguen a casa.

URI:https://www.capellades.cat/actualitat/agenda/anima-al-club-de-futbol-sala.html
CLASS:PUBLIC
END:VEVENT
END:VCALENDAR
