BEGIN:VCALENDAR
VERSION:2.0
CALSCALE:GREGORIAN
PRODID:-//Diputació de Barcelona//DibaCMS//EN
BEGIN:VEVENT
UID:4013
DTSTAMP:20260422T144218
DTSTART:20190130T120000
DTEND:20190130T123000
SUMMARY:Jornada de la Pau
LOCATION:
METHOD:PUBLISH
X-WR-CALNAME:capellades@capellades.cat
X-WR-TIMEZONE:Europe/Madrid
DESCRIPTION:L'Escola Marquès de la Pobla celebra un any més la Jornada de la Pau.

URI:https://www.capellades.cat/actualitat/agenda/jornada-de-la-pau.html
CLASS:PUBLIC
END:VEVENT
END:VCALENDAR
