BEGIN:VCALENDAR
VERSION:2.0
CALSCALE:GREGORIAN
PRODID:-//Diputació de Barcelona//DibaCMS//EN
BEGIN:VEVENT
UID:4012
DTSTAMP:20260422T144929
DTSTART:20190125T193000
DTEND:20190125T210000
SUMMARY:Jocs de Taula per a totes les edats
LOCATION:
METHOD:PUBLISH
X-WR-CALNAME:capellades@capellades.cat
X-WR-TIMEZONE:Europe/Madrid
DESCRIPTION:Vine al Saló Rosa a passar una bona tarda, individualment o en un grup.

URI:https://www.capellades.cat/actualitat/agenda/jocs-de-taula-per-a-totes-les-edats.html
CLASS:PUBLIC
END:VEVENT
END:VCALENDAR
