BEGIN:VCALENDAR
VERSION:2.0
CALSCALE:GREGORIAN
PRODID:-//Diputació de Barcelona//DibaCMS//EN
BEGIN:VEVENT
UID:4010
DTSTAMP:20260422T103853
DTSTART:20190124T193000
DTEND:20190124T210000
SUMMARY:Taller sobre com actuar davant els riscos de la llar
LOCATION:
METHOD:PUBLISH
X-WR-CALNAME:capellades@capellades.cat
X-WR-TIMEZONE:Europe/Madrid
DESCRIPTION:Proposta del CAP Capellades per saber com reaccionar davant els accidents habituals de casa.

URI:https://www.capellades.cat/actualitat/agenda/taller-sobre-com-actuar-davant-els-riscos-de-la-llar.html
CLASS:PUBLIC
END:VEVENT
END:VCALENDAR
