BEGIN:VCALENDAR
VERSION:2.0
CALSCALE:GREGORIAN
PRODID:-//Diputació de Barcelona//DibaCMS//EN
BEGIN:VEVENT
UID:4009
DTSTAMP:20260422T161051
DTSTART:20190131T093000
DTEND:20190131T120000
SUMMARY:Nova sortida del Mou-te
LOCATION:
METHOD:PUBLISH
X-WR-CALNAME:capellades@capellades.cat
X-WR-TIMEZONE:Europe/Madrid
DESCRIPTION:Nova sortida organitzada des del CAP Capellades pels voltants de la vila.

URI:https://www.capellades.cat/actualitat/agenda/nova-sortida-del-mou-te.html
CLASS:PUBLIC
END:VEVENT
END:VCALENDAR
