BEGIN:VCALENDAR
VERSION:2.0
CALSCALE:GREGORIAN
PRODID:-//Diputació de Barcelona//DibaCMS//EN
BEGIN:VEVENT
UID:4008
DTSTAMP:20260422T140527
DTSTART:20190120T110000
DTEND:20190120T130000
SUMMARY:Assemblea anual de La Lliga
LOCATION:
METHOD:PUBLISH
X-WR-CALNAME:capellades@capellades.cat
X-WR-TIMEZONE:Europe/Madrid
DESCRIPTION:La Societat La Lliga comença l'any amb l'assemblea anual per a tots els socis i sòcies.

URI:https://www.capellades.cat/actualitat/agenda/assemblea-anual-de-la-lliga.html
CLASS:PUBLIC
END:VEVENT
END:VCALENDAR
