BEGIN:VCALENDAR
VERSION:2.0
CALSCALE:GREGORIAN
PRODID:-//Diputació de Barcelona//DibaCMS//EN
BEGIN:VEVENT
UID:4006
DTSTAMP:20260422T111210
DTSTART:20190118T200000
DTEND:20190118T220000
SUMMARY:Nova proposta del Cinefòrum Josep Romanyà Montcada
LOCATION:
METHOD:PUBLISH
X-WR-CALNAME:capellades@capellades.cat
X-WR-TIMEZONE:Europe/Madrid
DESCRIPTION:Aquest gener el debat anirà al voltant de la pel·lícula "En un lugar solitario".

URI:https://www.capellades.cat/actualitat/agenda/nova-proposta-del-cineforum-josep-romanya-montcada.html
CLASS:PUBLIC
END:VEVENT
END:VCALENDAR
