BEGIN:VCALENDAR
VERSION:2.0
CALSCALE:GREGORIAN
PRODID:-//Diputació de Barcelona//DibaCMS//EN
BEGIN:VEVENT
UID:4004
DTSTAMP:20260422T075930
DTSTART:20190117T153000
DTEND:20190117T173000
SUMMARY:Visita del SIAD
LOCATION:
METHOD:PUBLISH
X-WR-CALNAME:capellades@capellades.cat
X-WR-TIMEZONE:Europe/Madrid
DESCRIPTION:Nova visita del SIAD, el Servei d'Informació i Atenció a la Dona.

URI:https://www.capellades.cat/actualitat/agenda/4004-visita-del-siad.html
CLASS:PUBLIC
END:VEVENT
END:VCALENDAR
