BEGIN:VCALENDAR
VERSION:2.0
CALSCALE:GREGORIAN
PRODID:-//Diputació de Barcelona//DibaCMS//EN
BEGIN:VEVENT
UID:4002
DTSTAMP:20260422T111318
DTSTART:20190111T190000
DTEND:20190111T210000
SUMMARY:El documental del gener a La Lliga és "Gràcies per la pluja"
LOCATION:
METHOD:PUBLISH
X-WR-CALNAME:capellades@capellades.cat
X-WR-TIMEZONE:Europe/Madrid
DESCRIPTION:El passi es farà a les 7 de la tarda a la sala petita del Teatre La Lliga.

URI:https://www.capellades.cat/actualitat/agenda/el-documental-del-gener-a-la-lliga-es-gracies-per-la-pluja.html
CLASS:PUBLIC
END:VEVENT
END:VCALENDAR
