BEGIN:VCALENDAR
VERSION:2.0
CALSCALE:GREGORIAN
PRODID:-//Diputació de Barcelona//DibaCMS//EN
BEGIN:VEVENT
UID:4001
DTSTAMP:20260422T104919
DTSTART:20190112T173000
DTEND:20190112T190000
SUMMARY:Comença el Taller d'iniciació a la fotografia
LOCATION:
METHOD:PUBLISH
X-WR-CALNAME:capellades@capellades.cat
X-WR-TIMEZONE:Europe/Madrid
DESCRIPTION:L'Agrupació Fotogràfica Capellades organitza un taller d'iniciació a la fotografia.

URI:https://www.capellades.cat/actualitat/agenda/comenca-el-taller-diniciacio-a-la-fotografia.html
CLASS:PUBLIC
END:VEVENT
END:VCALENDAR
