BEGIN:VCALENDAR
VERSION:2.0
CALSCALE:GREGORIAN
PRODID:-//Diputació de Barcelona//DibaCMS//EN
BEGIN:VEVENT
UID:3997
DTSTAMP:20260422T134142
DTSTART:20190120T180000
DTEND:20190120T200000
SUMMARY:Xarxa proposa una versió dels 3 porquets
LOCATION:
METHOD:PUBLISH
X-WR-CALNAME:capellades@capellades.cat
X-WR-TIMEZONE:Europe/Madrid
DESCRIPTION:El diumenge 20 de gener Xarxa Capellades proposa una nova trobada, a les 6 de la tarda, al Teatre La Lliga.

URI:https://www.capellades.cat/actualitat/agenda/xarxa-proposa-una-versio-dels-3-porquets.html
CLASS:PUBLIC
END:VEVENT
END:VCALENDAR
