BEGIN:VCALENDAR
VERSION:2.0
CALSCALE:GREGORIAN
PRODID:-//Diputació de Barcelona//DibaCMS//EN
BEGIN:VEVENT
UID:3996
DTSTAMP:20260422T052139
DTSTART:20190113T090000
DTEND:20190113T130000
SUMMARY:Caminant per la Comarca
LOCATION:
METHOD:PUBLISH
X-WR-CALNAME:capellades@capellades.cat
X-WR-TIMEZONE:Europe/Madrid
DESCRIPTION:Aquest mes de gener el grup Caminant per la comarca d'AEMdeKP organtiza una nova sortida.

URI:https://www.capellades.cat/actualitat/agenda/3996-caminant-per-la-comarca.html
CLASS:PUBLIC
END:VEVENT
END:VCALENDAR
