BEGIN:VCALENDAR
VERSION:2.0
CALSCALE:GREGORIAN
PRODID:-//Diputació de Barcelona//DibaCMS//EN
BEGIN:VEVENT
UID:3988
DTSTAMP:20260422T133852
DTSTART:20181226T190000
DTEND:20181226T210000
SUMMARY:Concert de Sant Esteve
LOCATION:
METHOD:PUBLISH
X-WR-CALNAME:capellades@capellades.cat
X-WR-TIMEZONE:Europe/Madrid
DESCRIPTION:El tradicional Concert de Sant Esteve de la Coral Noves Veus de Capellades es farà un any més el dimecres 26 de desembre.

URI:https://www.capellades.cat/actualitat/agenda/3988-concert-de-sant-esteve.html
CLASS:PUBLIC
END:VEVENT
END:VCALENDAR
