BEGIN:VCALENDAR
VERSION:2.0
CALSCALE:GREGORIAN
PRODID:-//Diputació de Barcelona//DibaCMS//EN
BEGIN:VEVENT
UID:3987
DTSTAMP:20260422T083402
DTSTART:20181222T180000
DTEND:20181222T200000
SUMMARY:Vine a animar els séniors del Futbol Sala Capellades
LOCATION:
METHOD:PUBLISH
X-WR-CALNAME:capellades@capellades.cat
X-WR-TIMEZONE:Europe/Madrid
DESCRIPTION:Aquest dissabte 22 de desembre vine al Pavelló Poliesporti a animar al Restaurant Bar Biarritz.

URI:https://www.capellades.cat/actualitat/agenda/vine-a-animar-els-seniors-del-futbol-sala-capellades.html
CLASS:PUBLIC
END:VEVENT
END:VCALENDAR
